8.000000000
0.000000
0.000000
-8.000000000
511569.43565860
151643.50291378
