8.000000000
0.000000
0.000000
-8.000000000
511569.03588721
151645.36144763
