8.000000000
0.000000
0.000000
-8.000000000
511580.27942683
151641.49490441
