8.000000000
0.000000
0.000000
-8.000000000
510766.47304861
151415.10912864
