8.000000000
0.000000
0.000000
-8.000000000
510764.74108553
151413.28133152
