8.000000000
0.000000
0.000000
-8.000000000
510297.59361931
151087.77537475
