8.000000000
0.000000
0.000000
-8.000000000
510296.95861587
151088.09339774
