8.000000000
0.000000
0.000000
-8.000000000
510298.70224116
151076.02478406
