8.000000000
0.000000
0.000000
-8.000000000
509986.46603934
151844.54508041
