8.000000000
0.000000
0.000000
-8.000000000
509990.77374409
151847.57033748
