8.000000000
0.000000
0.000000
-8.000000000
509989.88353302
151859.62663834
