8.000000000
0.000000
0.000000
-8.000000000
509969.81895519
151843.24368880
