8.000000000
0.000000
0.000000
-8.000000000
509959.02104417
151848.34194131
