8.000000000
0.000000
0.000000
-8.000000000
509824.06252987
151934.92297095
