8.000000000
0.000000
0.000000
-8.000000000
509821.57382491
151925.07759582
