8.000000000
0.000000
0.000000
-8.000000000
509819.88228536
151926.02870378
