8.000000000
0.000000
0.000000
-8.000000000
508375.72513339
151834.26322594
