8.000000000
0.000000
0.000000
-8.000000000
508381.93356228
151836.02393806
