8.000000000
0.000000
0.000000
-8.000000000
508377.59296915
151830.83866319
