8.000000000
0.000000
0.000000
-8.000000000
508308.69294214
151928.51715836
