8.000000000
0.000000
0.000000
-8.000000000
508311.85784409
151926.30853229
