8.000000000
0.000000
0.000000
-8.000000000
508309.10312436
151913.07083904
