8.000000000
0.000000
0.000000
-8.000000000
508394.61200044
153135.90472860
