8.000000000
0.000000
0.000000
-8.000000000
508408.50410684
153138.47786819
