8.000000000
0.000000
0.000000
-8.000000000
508383.63666739
153143.17011236
