8.000000000
0.000000
0.000000
-8.000000000
506796.48357017
153459.36935711
