8.000000000
0.000000
0.000000
-8.000000000
506807.13286938
153458.89974773
