8.000000000
0.000000
0.000000
-8.000000000
506813.13305768
153475.17592135
