8.000000000
0.000000
0.000000
-8.000000000
506809.71447618
153474.60992217
