8.000000000
0.000000
0.000000
-8.000000000
508345.90107999
152194.77200114
