8.000000000
0.000000
0.000000
-8.000000000
508369.84420938
152199.35752910
