8.000000000
0.000000
0.000000
-8.000000000
508377.66782296
152209.43199320
