8.000000000
0.000000
0.000000
-8.000000000
508385.50732728
152924.50812652
