8.000000000
0.000000
0.000000
-8.000000000
508387.26250313
152927.87894095
