8.000000000
0.000000
0.000000
-8.000000000
508342.49173000
150255.53349792
