8.000000000
0.000000
0.000000
-8.000000000
508368.17309255
150118.04385842
