8.000000000
0.000000
0.000000
-8.000000000
508375.26809775
150121.95305143
