8.000000000
0.000000
0.000000
-8.000000000
508430.82874159
149899.71741343
