8.000000000
0.000000
0.000000
-8.000000000
508415.07455481
149901.49498492
