8.000000000
0.000000
0.000000
-8.000000000
508416.52120688
149898.38550746
