8.000000000
0.000000
0.000000
-8.000000000
508453.08419048
149761.04387978
