8.000000000
0.000000
0.000000
-8.000000000
508459.97824687
149751.36882965
