8.000000000
0.000000
0.000000
-8.000000000
508460.97566668
149746.72200803
