8.000000000
0.000000
0.000000
-8.000000000
508439.50104149
149751.05470280
