8.000000000
0.000000
0.000000
-8.000000000
508451.15498966
149098.38227800
