8.000000000
0.000000
0.000000
-8.000000000
508450.32951288
149100.24732393
