8.000000000
0.000000
0.000000
-8.000000000
508430.51727263
149101.77615564
