8.000000000
0.000000
0.000000
-8.000000000
508447.45714863
148690.50949939
