8.000000000
0.000000
0.000000
-8.000000000
508443.85941698
148692.41562373
