8.000000000
0.000000
0.000000
-8.000000000
508430.77362867
148687.35991899
